BEGIN:VCALENDAR
VERSION:2.0
PRODID:-//Squarespace Inc/Squarespace 6//v6//EN
BEGIN:VEVENT
UID:5795a376f5e231331d2367ab@squarespace.com
DTSTAMP:20190412T053212Z
DTSTART:20071201T170000Z
DTEND:20071202T040000Z
SUMMARY:Foreshore Festival 2007
GEO:-35.297133;149.13403
LOCATION:Commonwealth Place\, 40 Queen Elizabeth Terrace\, Parkes\, ACT\, 2
 600\, Australia
END:VEVENT
END:VCALENDAR
