BEGIN:VCALENDAR
VERSION:2.0
PRODID:-//Squarespace Inc/Squarespace 6//v6//EN
BEGIN:VEVENT
UID:5795a105d2b857dd70a63fbf@squarespace.com
DTSTAMP:20190412T051309Z
DTSTART:20091128T163000Z
DTEND:20091129T043000Z
SUMMARY:Foreshore Festival 2009
GEO:-35.297256;149.13418
LOCATION:Commonwealth Place\, 40 Queen Elizabeth Terrace\, Parkes\, ACT\, 2
 600\, Australia
END:VEVENT
END:VCALENDAR
