BEGIN:VCALENDAR
VERSION:2.0
PRODID:-//Squarespace Inc/Squarespace 6//v6//EN
BEGIN:VEVENT
UID:5795a43759cc68a490d72735@squarespace.com
DTSTAMP:20190412T031314Z
DTSTART:20090607T160000Z
DTEND:20090608T030000Z
SUMMARY:Warehouse Festival 2009
GEO:-35.247749;149.101114
LOCATION:AIS Arena\, 26 Leverrier St\, Bruce\, ACT\, 2617\, Australia
END:VEVENT
END:VCALENDAR
