BEGIN:VCALENDAR
VERSION:2.0
PRODID:-//Squarespace Inc/Squarespace 6//v6//EN
BEGIN:VEVENT
UID:5795a0a6b8a79baa23cdee8f@squarespace.com
DTSTAMP:20190412T051054Z
DTSTART:20101127T163000Z
DTEND:20101128T043000Z
SUMMARY:Foreshore Festival 2010
GEO:-35.300198;149.131477
LOCATION:Parlimentary Triangle\, 35 King Edward Terrace\, Parkes\, ACT\, 26
 00\, Australia
END:VEVENT
END:VCALENDAR
