BEGIN:VCALENDAR
VERSION:2.0
PRODID:-//Squarespace Inc/Squarespace 6//v6//EN
BEGIN:VEVENT
UID:5795a063b3db2bd9ef4ac162@squarespace.com
DTSTAMP:20190412T051125Z
DTSTART:20111126T163000Z
DTEND:20111127T043000Z
SUMMARY:Foreshore Festival 2011
GEO:-35.300198;149.131477
LOCATION:Parlimentary Triangle\, 35 King Edward Terrace\, Parkes\, ACT\, 26
 00\, Australia
END:VEVENT
END:VCALENDAR
