BEGIN:VCALENDAR
VERSION:2.0
PRODID:-//Squarespace Inc/Squarespace 6//v6//EN
BEGIN:VEVENT
UID:57e9a73d5016e19005555d34@squarespace.com
DTSTAMP:20190717T001004Z
DTSTART:20151002T230000Z
DTEND:20151003T035900Z
SUMMARY:Alison Wonderland at Academy Club
GEO:-35.279034;149.133251
LOCATION:Academy Club\, Bunda Street\, Canberra\, ACT\, 2601\, Australia
END:VEVENT
END:VCALENDAR
