BEGIN:VCALENDAR
VERSION:2.0
PRODID:-//Squarespace Inc/Squarespace 6//v6//EN
BEGIN:VEVENT
UID:577dc8c3440243d74907f15f@squarespace.com
DTSTAMP:20190412T015812Z
DTSTART:20131005T000000Z
DTEND:20131005T033000Z
SUMMARY:Disclosure (Live)\, Duke Dumont\, Alunageorge &amp\; Safia at UC
GEO:-35.242;149.077
LOCATION:University of Canberra\, Bruce\, ACT\, Australia
END:VEVENT
END:VCALENDAR
