BEGIN:VCALENDAR
VERSION:2.0
PRODID:-//Squarespace Inc/Squarespace 6//v6//EN
BEGIN:VEVENT
UID:577dc2ca8419c243feb02931@squarespace.com
DTSTAMP:20190717T000921Z
DTSTART:20161203T160000Z
DTEND:20161204T040000Z
SUMMARY:Spilt Milk 2016
GEO:-35.289622;149.130702
LOCATION:Spilt Milk\, Commonwealth Park\, Canberra\, Australia
END:VEVENT
END:VCALENDAR
