BEGIN:VCALENDAR
VERSION:2.0
PRODID:-//Squarespace Inc/Squarespace 6//v6//EN
BEGIN:VEVENT
UID:578c8aac20099e823fe3b9c7@squarespace.com
DTSTAMP:20190717T000934Z
DTSTART:20161209T210000Z
DTEND:20161219T020000Z
SUMMARY:The Commons Street Feast 2016
GEO:-35.289622;149.130702
LOCATION:The Commons\, Commonwealth Park\, Canberra\, Australia
END:VEVENT
END:VCALENDAR
