BEGIN:VCALENDAR
VERSION:2.0
PRODID:-//Squarespace Inc/Squarespace 6//v6//EN
BEGIN:VEVENT
UID:5a6e6ff024a694fb93860416@squarespace.com
DTSTAMP:20190412T042349Z
DTSTART:20171130T220000Z
DTEND:20171211T040000Z
SUMMARY:The Commons Street Feast 2017
GEO:-35.288945;149.136054
LOCATION:Commonwealth Park\, Canberra
END:VEVENT
END:VCALENDAR
