BEGIN:VCALENDAR
VERSION:2.0
PRODID:-//Squarespace Inc/Squarespace 6//v6//EN
BEGIN:VEVENT
UID:58c0d2c7c534a59cc4889354@squarespace.com
DTSTAMP:20190717T000951Z
DTSTART:20171014T160000Z
DTEND:20171015T020000Z
SUMMARY:Oktoberfest Parklands 2017
GEO:-35.296107;149.131126
LOCATION:Oktoberfest Parklands\, Patrick White Lawns\, Canberra\, Australia
END:VEVENT
END:VCALENDAR
