BEGIN:VCALENDAR
VERSION:2.0
PRODID:-//Squarespace Inc/Squarespace 6//v6//EN
BEGIN:VEVENT
UID:592f11932994cad62e895dc2@squarespace.com
DTSTAMP:20190717T000855Z
DTSTART:20171125T160000Z
DTEND:20171126T040000Z
SUMMARY:Spilt Milk 2017
GEO:-35.289622;149.130702
LOCATION:Kicks Entertainment\, Commonwealth Park\, Canberra\, Australia
END:VEVENT
END:VCALENDAR
