BEGIN:VCALENDAR
VERSION:2.0
PRODID:-//Squarespace Inc/Squarespace 6//v6//EN
BEGIN:VEVENT
UID:5b6b85be8a922dc091ad2f35@squarespace.com
DTSTAMP:20190412T012455Z
DTSTART:20181020T170000Z
DTEND:20181021T010000Z
SUMMARY:Oktoberfest Parklands 2018
GEO:-35.296107;149.131126
LOCATION:Oktoberfest Parklands\, Patrick White Lawns\, Canberra\, ACT\, Aus
 tralia
END:VEVENT
END:VCALENDAR
