BEGIN:VCALENDAR
VERSION:2.0
PRODID:-//Squarespace Inc/Squarespace 6//v6//EN
BEGIN:VEVENT
UID:5b43fa706d2a73cc9b30cd49@squarespace.com
DTSTAMP:20190717T000758Z
DTSTART:20181117T160000Z
DTEND:20181118T040000Z
SUMMARY:Spilt Milk 2018
GEO:-35.289622;149.130702
LOCATION:Spilt Milk\, Commonwealth Park\, Canberra\, Australia
END:VEVENT
END:VCALENDAR
