BEGIN:VCALENDAR
VERSION:2.0
PRODID:-//Squarespace Inc/Squarespace 6//v6//EN
BEGIN:VEVENT
UID:5b1e5366562fa722fbbba7ee@squarespace.com
DTSTAMP:20190412T015913Z
DTSTART:20181124T180000Z
DTEND:20181125T020000Z
SUMMARY:Carl Cox &amp\; Eric Powell's Mobile Disco
GEO:-35.278254;149.11213
LOCATION:Australian National Botanic Gardens\, Clunies Ross Street\, Acton\
 , ACT\, 2601\, Australia
END:VEVENT
END:VCALENDAR
