BEGIN:VCALENDAR
VERSION:2.0
PRODID:-//Squarespace Inc/Squarespace 6//v6//EN
BEGIN:VEVENT
UID:5e336b3155c5bc5e71ada034@squarespace.com
DTSTAMP:20200212T003430Z
DTSTART:20200328T160000Z
DTEND:20200405T010000Z
SUMMARY:Fisher Beach Party Tour
END:VEVENT
END:VCALENDAR
