BEGIN:VCALENDAR
VERSION:2.0
PRODID:-//Squarespace Inc/Squarespace 6//v6//EN
BEGIN:VEVENT
UID:5d818a3d02a00d2a58cc141d@squarespace.com
DTSTAMP:20190918T015115Z
DTSTART:20191130T160000Z
DTEND:20191201T040000Z
SUMMARY:Spilt Milk Ballarat
GEO:-35.289655;149.135559
LOCATION:Commonwealth Park\, Canberra\, ACT\, 2600\, Australia
END:VEVENT
END:VCALENDAR
