BEGIN:VCALENDAR
VERSION:2.0
PRODID:-//Squarespace Inc/Squarespace 6//v6//EN
BEGIN:VEVENT
UID:5d8188e911b7c55c356137bd@squarespace.com
DTSTAMP:20190918T013701Z
DTSTART:20191123T160000Z
DTEND:20191124T040000Z
SUMMARY:Spilt Milk Canberra
GEO:-35.289655;149.135559
LOCATION:Commonwealth Park\, Canberra\, ACT\, 2600\, Australia
END:VEVENT
END:VCALENDAR
