BEGIN:VCALENDAR
VERSION:2.0
PRODID:-//Squarespace Inc/Squarespace 6//v6//EN
BEGIN:VEVENT
UID:5795a1c5725e254c7c89da21@squarespace.com
DTSTAMP:20190412T052622Z
DTSTART:20081129T163000Z
DTEND:20081230T043000Z
SUMMARY:Foreshore Festival 2008
GEO:-35.297448;149.134159
LOCATION:Commonwealth Place\, 40 Queen Elizabeth Terrace\, Parkes\, ACT\, 2
 600\, Australia
END:VEVENT
END:VCALENDAR
