BEGIN:VCALENDAR
VERSION:2.0
PRODID:-//Squarespace Inc/Squarespace 6//v6//EN
BEGIN:VEVENT
UID:5caec5726e9a7f33bdaac323@squarespace.com
DTSTAMP:20190412T031757Z
DTSTART:20100501T160000Z
DTEND:20100502T030000Z
SUMMARY:Warehouse Festival 2010
GEO:-35.245636;149.102105
LOCATION:AIS Arena\, 26 Leverrier Street\, Bruce\, ACT\, 2617\, Australia
END:VEVENT
END:VCALENDAR
