BEGIN:VCALENDAR
VERSION:2.0
PRODID:-//Squarespace Inc/Squarespace 6//v6//EN
BEGIN:VEVENT
UID:5caec6da8165f523e54dcd75@squarespace.com
DTSTAMP:20190412T032024Z
DTSTART:20110426T160000Z
DTEND:20110427T030000Z
SUMMARY:Warehouse Festival 2011
GEO:-35.242;149.077
LOCATION:AIS Arena\, 26 Leverrier St\, Bruce\, ACT\, 2617\, Australia
END:VEVENT
END:VCALENDAR
