BEGIN:VCALENDAR
VERSION:2.0
PRODID:-//Squarespace Inc/Squarespace 6//v6//EN
BEGIN:VEVENT
UID:5795a003cd0f6810d130ef56@squarespace.com
DTSTAMP:20190412T051113Z
DTSTART:20121124T163000Z
DTEND:20121125T043000Z
SUMMARY:Foreshore Festival 2012
GEO:-35.28885;149.131623
LOCATION:Commonwealth Park\, Commonwealth Park\, Canberra\, ACT\, Australia
END:VEVENT
END:VCALENDAR
