BEGIN:VCALENDAR
VERSION:2.0
PRODID:-//Squarespace Inc/Squarespace 6//v6//EN
BEGIN:VEVENT
UID:57959c29ff7c504fa522bdd1@squarespace.com
DTSTAMP:20190412T042415Z
DTSTART:20130919T000000Z
DTEND:20130920T030000Z
SUMMARY:Rudimental\, Gorgon City &amp\; Safia at UC 
GEO:-35.238455;149.084446
LOCATION:University of Canberra
END:VEVENT
END:VCALENDAR
