BEGIN:VCALENDAR
VERSION:2.0
PRODID:-//Squarespace Inc/Squarespace 6//v6//EN
BEGIN:VEVENT
UID:5795a4a6ff7c504fa522ea58@squarespace.com
DTSTAMP:20190412T030856Z
DTSTART:20080531T170000Z
DTEND:20080601T030000Z
SUMMARY:Warehouse Festival 2008
GEO:-35.247801;149.101135
LOCATION:AIS Arean\, 26 Leverrier St\, Bruce\, ACT\, 2617\, Australia
END:VEVENT
END:VCALENDAR
