BEGIN:VCALENDAR
VERSION:2.0
PRODID:-//Squarespace Inc/Squarespace 6//v6//EN
BEGIN:VEVENT
UID:5d27da59dafc5d00017c1805@squarespace.com
DTSTAMP:20190717T000637Z
DTSTART:20191123T160000Z
DTEND:20191201T040000Z
SUMMARY:Spilt Milk 2019
GEO:-35.289622;149.130702
LOCATION:Spilt Milk\, Commonwealth Park\, Canberra\, Australia
END:VEVENT
END:VCALENDAR
