BEGIN:VCALENDAR
VERSION:2.0
PRODID:-//Squarespace Inc/Squarespace 6//v6//EN
BEGIN:VEVENT
UID:5e8690f7fbec5f395e2b6529@squarespace.com
DTSTAMP:20201116T044353Z
DTSTART:20211120T170000Z
DTEND:20211128T173000Z
SUMMARY:Fisher Australian Headline Tour
END:VEVENT
END:VCALENDAR
